BEGIN:VCALENDAR
VERSION:2.0
PRODID:-//CERN//INDICO//EN
BEGIN:VEVENT
SUMMARY:Fourier optics Lab Introduction
DTSTART;VALUE=DATE-TIME:20160208T143000Z
DTEND;VALUE=DATE-TIME:20160208T150000Z
DTSTAMP;VALUE=DATE-TIME:20240319T210032Z
UID:indico-contribution-22@ictp.it
DESCRIPTION:Speakers: CONSORTINI\, Anna (University of Florence\, Italy)\n
 //indico.ictp.it/event/7592/session/5/contribution/22
LOCATION:ICTP Adriatico Guest House - Giambiagi Lecture Hall
URL://indico.ictp.it/event/7592/session/5/contribution/22
END:VEVENT
END:VCALENDAR
