BEGIN:VCALENDAR
VERSION:2.0
PRODID:-//CERN//INDICO//EN
BEGIN:VEVENT
SUMMARY:Pulse propagation in materials and waveguides I
DTSTART;VALUE=DATE-TIME:20160210T100000Z
DTEND;VALUE=DATE-TIME:20160210T113000Z
DTSTAMP;VALUE=DATE-TIME:20240319T213314Z
UID:indico-contribution-28@ictp.it
DESCRIPTION:Speakers: MIGUEL ALONSO GONZALEZ (University of Rochester\, US
 A)\n//indico.ictp.it/event/7592/session/7/contribution/28
LOCATION:ICTP Adriatico Guest House - Giambiagi Lecture Hall
URL://indico.ictp.it/event/7592/session/7/contribution/28
END:VEVENT
END:VCALENDAR
