BEGIN:VCALENDAR
VERSION:2.0
PRODID:-//CERN//INDICO//EN
BEGIN:VEVENT
SUMMARY:Introduction to Nonlinear Optics I
DTSTART;VALUE=DATE-TIME:20160211T100000Z
DTEND;VALUE=DATE-TIME:20160211T113000Z
DTSTAMP;VALUE=DATE-TIME:20240319T213757Z
UID:indico-contribution-32@ictp.it
DESCRIPTION:Speakers: MIGUEL ALONSO GONZALEZ (University of Rochester\, US
 A)\n//indico.ictp.it/event/7592/session/8/contribution/32
LOCATION:ICTP Adriatico Guest House - Giambiagi Lecture Hall
URL://indico.ictp.it/event/7592/session/8/contribution/32
END:VEVENT
END:VCALENDAR
