BEGIN:VCALENDAR
VERSION:2.0
PRODID:-//CERN//INDICO//EN
BEGIN:VEVENT
SUMMARY:Energy levels of molecules II
DTSTART;VALUE=DATE-TIME:20160211T080000Z
DTEND;VALUE=DATE-TIME:20160211T093000Z
DTSTAMP;VALUE=DATE-TIME:20240319T203533Z
UID:indico-contribution-8-0-31@ictp.it
DESCRIPTION:Speakers: HUMBERTO CABRERA MORALES (Instituto Venezolano de In
 vestigaciones Cientificas\, Venezuela)\nLine broadening. Basics of the cav
 ity ring down spectroscopy. Some applications in Microscopy to increase th
 e sensitivity.\n\n//indico.ictp.it/event/7592/session/8/contribution/31
LOCATION:ICTP Adriatico Guest House - Giambiagi Lecture Hall
URL://indico.ictp.it/event/7592/session/8/contribution/31
END:VEVENT
BEGIN:VEVENT
SUMMARY:Introduction to Nonlinear Optics I
DTSTART;VALUE=DATE-TIME:20160211T100000Z
DTEND;VALUE=DATE-TIME:20160211T113000Z
DTSTAMP;VALUE=DATE-TIME:20240319T203533Z
UID:indico-contribution-8-0-32@ictp.it
DESCRIPTION:Speakers: MIGUEL ALONSO GONZALEZ (University of Rochester\, US
 A)\n//indico.ictp.it/event/7592/session/8/contribution/32
LOCATION:ICTP Adriatico Guest House - Giambiagi Lecture Hall
URL://indico.ictp.it/event/7592/session/8/contribution/32
END:VEVENT
BEGIN:VEVENT
SUMMARY:Laboratory Session III on Spectroscopy
DTSTART;VALUE=DATE-TIME:20160211T130000Z
DTEND;VALUE=DATE-TIME:20160211T150000Z
DTSTAMP;VALUE=DATE-TIME:20240319T203533Z
UID:indico-contribution-8-0-33@ictp.it
DESCRIPTION:Speakers: HUMBERTO CABRERA MORALES (Instituto Venezolano de In
 vestigaciones Cientificas\, Venezuela)\nGroups 2\, 4 and 5.\n\n"Cavity rin
 g down spectroscopy combined with Microscopy to increase sensitivity. Dete
 rmination of the absorption coefficient in pure liquids: water\, ethanol."
 \n\n//indico.ictp.it/event/7592/session/8/contribution/33
LOCATION: ICTP MLab - Multidisciplinary Laboratory
URL://indico.ictp.it/event/7592/session/8/contribution/33
END:VEVENT
END:VCALENDAR
