BEGIN:VCALENDAR
VERSION:2.0
PRODID:-//CERN//INDICO//EN
BEGIN:VEVENT
SUMMARY:Introduction to Nonlinear optics II
DTSTART;VALUE=DATE-TIME:20160212T090000Z
DTEND;VALUE=DATE-TIME:20160212T110000Z
DTSTAMP;VALUE=DATE-TIME:20240319T210944Z
UID:indico-contribution-9-0-34@ictp.it
DESCRIPTION:Speakers: MIGUEL ALONSO GONZALEZ (University of Rochester\, US
 A)\n//indico.ictp.it/event/7592/session/9/contribution/34
LOCATION:ICTP Adriatico Guest House - Giambiagi Lecture Hall
URL://indico.ictp.it/event/7592/session/9/contribution/34
END:VEVENT
BEGIN:VEVENT
SUMMARY:Mathematica Simulation Workshop
DTSTART;VALUE=DATE-TIME:20160212T123000Z
DTEND;VALUE=DATE-TIME:20160212T143000Z
DTSTAMP;VALUE=DATE-TIME:20240319T210944Z
UID:indico-contribution-9-0-35@ictp.it
DESCRIPTION:Speakers: MIGUEL ALONSO GONZALEZ (University of Rochester\, US
 A)\n//indico.ictp.it/event/7592/session/9/contribution/35
LOCATION:ICTP Adriatico Guest House - Giambiagi Lecture Hall
URL://indico.ictp.it/event/7592/session/9/contribution/35
END:VEVENT
END:VCALENDAR
