BEGIN:VCALENDAR
VERSION:2.0
PRODID:-//CERN//INDICO//EN
BEGIN:VEVENT
SUMMARY:Welcoming and introduction
DTSTART;VALUE=DATE-TIME:20160215T093000Z
DTEND;VALUE=DATE-TIME:20160215T094500Z
DTSTAMP;VALUE=DATE-TIME:20240320T015349Z
UID:indico-contribution-1@ictp.it
DESCRIPTION:Speakers: \n//indico.ictp.it/event/7593/session/0/contribution
 /1
LOCATION:ICTP Leonardo Building - Budinich Lecture Hall
URL://indico.ictp.it/event/7593/session/0/contribution/1
END:VEVENT
END:VCALENDAR
