BEGIN:VCALENDAR
VERSION:2.0
PRODID:-//CERN//INDICO//EN
BEGIN:VEVENT
SUMMARY:Registration and administrative procedures
DTSTART;VALUE=DATE-TIME:20160215T073000Z
DTEND;VALUE=DATE-TIME:20160215T093000Z
DTSTAMP;VALUE=DATE-TIME:20240319T220248Z
UID:indico-contribution-0-0-0@ictp.it
DESCRIPTION:Speakers: \nRegistration will be at 8:30 and will last only 30
  minutes.\nThe remaining time will be needed to complete \nadministrative 
 formalities at the Enrico Fermi Building. \nPlease all be on time to fulfi
 ll these formalities.\n\nThose who have already registered for the Prepara
 tory School do not need to register again.\n\n//indico.ictp.it/event/7593/
 session/0/contribution/0
LOCATION: Leonardo Building - Lobby
URL://indico.ictp.it/event/7593/session/0/contribution/0
END:VEVENT
BEGIN:VEVENT
SUMMARY:Welcoming and introduction
DTSTART;VALUE=DATE-TIME:20160215T093000Z
DTEND;VALUE=DATE-TIME:20160215T094500Z
DTSTAMP;VALUE=DATE-TIME:20240319T220248Z
UID:indico-contribution-0-0-1@ictp.it
DESCRIPTION:Speakers: \n//indico.ictp.it/event/7593/session/0/contribution
 /1
LOCATION:ICTP Leonardo Building - Budinich Lecture Hall
URL://indico.ictp.it/event/7593/session/0/contribution/1
END:VEVENT
BEGIN:VEVENT
SUMMARY:The frequency comb (r)evolution
DTSTART;VALUE=DATE-TIME:20160215T094500Z
DTEND;VALUE=DATE-TIME:20160215T113000Z
DTSTAMP;VALUE=DATE-TIME:20240319T220248Z
UID:indico-contribution-0-0-2@ictp.it
DESCRIPTION:Speakers: THOMAS UDEM (Max-Planck-Institut fur Quantenoptik - 
 GERMANY)\n//indico.ictp.it/event/7593/session/0/contribution/2
LOCATION:ICTP Leonardo Building - Budinich Lecture Hall
URL://indico.ictp.it/event/7593/session/0/contribution/2
END:VEVENT
BEGIN:VEVENT
SUMMARY:Oscillators: frequency stability and noise analysis - part 1
DTSTART;VALUE=DATE-TIME:20160215T130000Z
DTEND;VALUE=DATE-TIME:20160215T143000Z
DTSTAMP;VALUE=DATE-TIME:20240319T220248Z
UID:indico-contribution-0-0-3@ictp.it
DESCRIPTION:Speakers: GIANLUCA GALZERANO (Istituto di Fotonica e Nanotecno
 logie del CNR - ITALY)\n//indico.ictp.it/event/7593/session/0/contribution
 /3
LOCATION:ICTP Leonardo Building - Budinich Lecture Hall
URL://indico.ictp.it/event/7593/session/0/contribution/3
END:VEVENT
BEGIN:VEVENT
SUMMARY:Oscillators: frequency stability and noise analysis - part 2
DTSTART;VALUE=DATE-TIME:20160215T150000Z
DTEND;VALUE=DATE-TIME:20160215T163000Z
DTSTAMP;VALUE=DATE-TIME:20240319T220248Z
UID:indico-contribution-0-0-4@ictp.it
DESCRIPTION:Speakers: GIANLUCA GALZERANO (Istituto di Fotonica e Nanotecno
 logie del CNR - ITALY)\n//indico.ictp.it/event/7593/session/0/contribution
 /4
LOCATION:ICTP Leonardo Building - Budinich Lecture Hall
URL://indico.ictp.it/event/7593/session/0/contribution/4
END:VEVENT
END:VCALENDAR
