BEGIN:VCALENDAR
VERSION:2.0
PRODID:-//CERN//INDICO//EN
BEGIN:VEVENT
SUMMARY:Atomic clocks and frequency transfer - part 1
DTSTART;VALUE=DATE-TIME:20160216T080000Z
DTEND;VALUE=DATE-TIME:20160216T093000Z
DTSTAMP;VALUE=DATE-TIME:20240319T223147Z
UID:indico-contribution-1-0-5@ictp.it
DESCRIPTION:Speakers: HELEN MARGOLIS (National Physical Laboratory – UK)
 \n//indico.ictp.it/event/7593/session/1/contribution/5
LOCATION:ICTP Leonardo Building - Budinich Lecture Hall
URL://indico.ictp.it/event/7593/session/1/contribution/5
END:VEVENT
BEGIN:VEVENT
SUMMARY:Atomic clocks and frequency transfer - part 2
DTSTART;VALUE=DATE-TIME:20160216T100000Z
DTEND;VALUE=DATE-TIME:20160216T113000Z
DTSTAMP;VALUE=DATE-TIME:20240319T223147Z
UID:indico-contribution-1-0-6@ictp.it
DESCRIPTION:Speakers: HELEN MARGOLIS (National Physical Laboratory – UK)
 \n//indico.ictp.it/event/7593/session/1/contribution/6
LOCATION:ICTP Leonardo Building - Budinich Lecture Hall
URL://indico.ictp.it/event/7593/session/1/contribution/6
END:VEVENT
BEGIN:VEVENT
SUMMARY:Nonlinear optics in the short pulse regime: basics and practice - 
 part 1
DTSTART;VALUE=DATE-TIME:20160216T130000Z
DTEND;VALUE=DATE-TIME:20160216T143000Z
DTSTAMP;VALUE=DATE-TIME:20240319T223147Z
UID:indico-contribution-1-0-7@ictp.it
DESCRIPTION:Speakers: MARCO MARANGONI (Politecnico di Milano - ITALY)\n//i
 ndico.ictp.it/event/7593/session/1/contribution/7
LOCATION:ICTP Leonardo Building - Budinich Lecture Hall
URL://indico.ictp.it/event/7593/session/1/contribution/7
END:VEVENT
BEGIN:VEVENT
SUMMARY:Nonlinear optics in the short pulse regime: basics and practice - 
 part 2
DTSTART;VALUE=DATE-TIME:20160216T150000Z
DTEND;VALUE=DATE-TIME:20160216T163000Z
DTSTAMP;VALUE=DATE-TIME:20240319T223147Z
UID:indico-contribution-1-0-8@ictp.it
DESCRIPTION:Speakers: MARCO MARANGONI (Politecnico di Milano - ITALY)\n//i
 ndico.ictp.it/event/7593/session/1/contribution/8
LOCATION:ICTP Leonardo Building - Budinich Lecture Hall
URL://indico.ictp.it/event/7593/session/1/contribution/8
END:VEVENT
END:VCALENDAR
