BEGIN:VCALENDAR
VERSION:2.0
PRODID:-//CERN//INDICO//EN
BEGIN:VEVENT
SUMMARY:Building a fibre mode-locked laser - part 1
DTSTART;VALUE=DATE-TIME:20160217T080000Z
DTEND;VALUE=DATE-TIME:20160217T093000Z
DTSTAMP;VALUE=DATE-TIME:20240319T222237Z
UID:indico-contribution-2-0-9@ictp.it
DESCRIPTION:Speakers: DANIELE BRIDA (Universitat Konstanz - GERMANY)\n//in
 dico.ictp.it/event/7593/session/2/contribution/9
LOCATION:ICTP Leonardo Building - Budinich Lecture Hall
URL://indico.ictp.it/event/7593/session/2/contribution/9
END:VEVENT
BEGIN:VEVENT
SUMMARY:Building a fibre mode-locked laser - part 2
DTSTART;VALUE=DATE-TIME:20160217T100000Z
DTEND;VALUE=DATE-TIME:20160217T113000Z
DTSTAMP;VALUE=DATE-TIME:20240319T222237Z
UID:indico-contribution-2-0-10@ictp.it
DESCRIPTION:Speakers: DANIELE BRIDA (Universitat Konstanz - GERMANY)\n//in
 dico.ictp.it/event/7593/session/2/contribution/10
LOCATION:ICTP Leonardo Building - Budinich Lecture Hall
URL://indico.ictp.it/event/7593/session/2/contribution/10
END:VEVENT
BEGIN:VEVENT
SUMMARY:Understanding noise sources and stabilization strategies in freque
 ncy combs - part 1
DTSTART;VALUE=DATE-TIME:20160217T130000Z
DTEND;VALUE=DATE-TIME:20160217T143000Z
DTSTAMP;VALUE=DATE-TIME:20240319T222237Z
UID:indico-contribution-2-0-11@ictp.it
DESCRIPTION:Speakers: NATHAN NEWBURY (National Institute for Standards and
  Technology - USA)\n//indico.ictp.it/event/7593/session/2/contribution/11
LOCATION:ICTP Leonardo Building - Budinich Lecture Hall
URL://indico.ictp.it/event/7593/session/2/contribution/11
END:VEVENT
BEGIN:VEVENT
SUMMARY:Understanding noise sources and stabilization strategies in freque
 ncy combs - part 2
DTSTART;VALUE=DATE-TIME:20160217T150000Z
DTEND;VALUE=DATE-TIME:20160217T163000Z
DTSTAMP;VALUE=DATE-TIME:20240319T222237Z
UID:indico-contribution-2-0-12@ictp.it
DESCRIPTION:Speakers: NATHAN NEWBURY (National Institute for Standards and
  Technology - USA)\n//indico.ictp.it/event/7593/session/2/contribution/12
LOCATION:ICTP Leonardo Building - Budinich Lecture Hall
URL://indico.ictp.it/event/7593/session/2/contribution/12
END:VEVENT
BEGIN:VEVENT
SUMMARY:Poster session
DTSTART;VALUE=DATE-TIME:20160217T163000Z
DTEND;VALUE=DATE-TIME:20160217T180000Z
DTSTAMP;VALUE=DATE-TIME:20240319T222237Z
UID:indico-contribution-2-0-13@ictp.it
DESCRIPTION:Speakers: \nRefreshments will be served during the poster sess
 ion.\n\n//indico.ictp.it/event/7593/session/2/contribution/13
LOCATION: Leonardo Building - Lobby
URL://indico.ictp.it/event/7593/session/2/contribution/13
END:VEVENT
END:VCALENDAR
