BEGIN:VCALENDAR
VERSION:2.0
PRODID:-//CERN//INDICO//EN
BEGIN:VEVENT
SUMMARY:Optical spectroscopy techniques - part 1
DTSTART;VALUE=DATE-TIME:20160219T130000Z
DTEND;VALUE=DATE-TIME:20160219T143000Z
DTSTAMP;VALUE=DATE-TIME:20240319T182747Z
UID:indico-contribution-21@ictp.it
DESCRIPTION:Speakers: DANIEL LISAK (Uniwersytet Mikołaja Kopernika - POLA
 ND)\n//indico.ictp.it/event/7593/session/4/contribution/21
LOCATION:ICTP Leonardo Building - Budinich Lecture Hall
URL://indico.ictp.it/event/7593/session/4/contribution/21
END:VEVENT
END:VCALENDAR
