BEGIN:VCALENDAR
VERSION:2.0
PRODID:-//CERN//INDICO//EN
BEGIN:VEVENT
SUMMARY:Comb-assisted spectroscopy - part 1
DTSTART;VALUE=DATE-TIME:20160222T130000Z
DTEND;VALUE=DATE-TIME:20160222T140000Z
DTSTAMP;VALUE=DATE-TIME:20240319T174634Z
UID:indico-contribution-25@ictp.it
DESCRIPTION:Speakers: PAOLO DE NATALE (Istituto Nazionale di Ottica del CN
 R - ITALY)\n//indico.ictp.it/event/7593/session/5/contribution/25
LOCATION:ICTP Leonardo Building - Budinich Lecture Hall
URL://indico.ictp.it/event/7593/session/5/contribution/25
END:VEVENT
END:VCALENDAR
