BEGIN:VCALENDAR
VERSION:2.0
PRODID:-//CERN//INDICO//EN
BEGIN:VEVENT
SUMMARY:Coherent comb-matter interaction - part 1
DTSTART;VALUE=DATE-TIME:20160223T080000Z
DTEND;VALUE=DATE-TIME:20160223T090000Z
DTSTAMP;VALUE=DATE-TIME:20240319T173606Z
UID:indico-contribution-27@ictp.it
DESCRIPTION:Speakers: TICJIANA BAN (Institute of Physics Bijenička - CROA
 TIA)\n//indico.ictp.it/event/7593/session/6/contribution/27
LOCATION:ICTP Leonardo Building - Budinich Lecture Hall
URL://indico.ictp.it/event/7593/session/6/contribution/27
END:VEVENT
END:VCALENDAR
