BEGIN:VCALENDAR
VERSION:2.0
PRODID:-//CERN//INDICO//EN
BEGIN:VEVENT
SUMMARY:Fundamentals of Synchrotron Radiation and Free Electron Lasers (I)
DTSTART;VALUE=DATE-TIME:20160404T081500Z
DTEND;VALUE=DATE-TIME:20160404T091500Z
DTSTAMP;VALUE=DATE-TIME:20240319T034031Z
UID:indico-contribution-100@ictp.it
DESCRIPTION:Speakers: GIORGIO MARGARITONDO (EPFL\, Switzerland)\n//indico.
 ictp.it/event/7594/session/20/contribution/100
LOCATION:ICTP LB (Euler Lecture Hall)
URL://indico.ictp.it/event/7594/session/20/contribution/100
END:VEVENT
END:VCALENDAR
