BEGIN:VCALENDAR
VERSION:2.0
PRODID:-//CERN//INDICO//EN
BEGIN:VEVENT
SUMMARY:Opening
DTSTART;VALUE=DATE-TIME:20160404T080000Z
DTEND;VALUE=DATE-TIME:20160404T081500Z
DTSTAMP;VALUE=DATE-TIME:20240319T042749Z
UID:indico-contribution-99@ictp.it
DESCRIPTION:Speakers: \n//indico.ictp.it/event/7594/session/20/contributio
 n/99
LOCATION:ICTP Leonardo Building - Euler Lecture Hall
URL://indico.ictp.it/event/7594/session/20/contribution/99
END:VEVENT
END:VCALENDAR
