BEGIN:VCALENDAR
VERSION:2.0
PRODID:-//CERN//INDICO//EN
BEGIN:VEVENT
SUMMARY:Interactions of x-rays with matter: with FEL coherence and time st
 ructure
DTSTART;VALUE=DATE-TIME:20160405T070000Z
DTEND;VALUE=DATE-TIME:20160405T083000Z
DTSTAMP;VALUE=DATE-TIME:20240319T034327Z
UID:indico-contribution-21-0-105@ictp.it
DESCRIPTION:Speakers: DAVID ATTWOOD (University of California Berkeley\, U
 SA)\n//indico.ictp.it/event/7594/session/21/contribution/105
LOCATION:ICTP LB (Euler Lecture Hall)
URL://indico.ictp.it/event/7594/session/21/contribution/105
END:VEVENT
BEGIN:VEVENT
SUMMARY:Advances in time domain spectroscopies\, a table-top approach comp
 lementary to FEL and SR sources
DTSTART;VALUE=DATE-TIME:20160405T090000Z
DTEND;VALUE=DATE-TIME:20160405T103000Z
DTSTAMP;VALUE=DATE-TIME:20240319T034327Z
UID:indico-contribution-21-0-106@ictp.it
DESCRIPTION:Speakers: DANIELE FAUSTI (University of Trieste)\n//indico.ict
 p.it/event/7594/session/21/contribution/106
LOCATION:ICTP LB (Euler Lecture Hall)
URL://indico.ictp.it/event/7594/session/21/contribution/106
END:VEVENT
BEGIN:VEVENT
SUMMARY:Basic Aspects of x-ray crystallography and powder diffraction
DTSTART;VALUE=DATE-TIME:20160405T120000Z
DTEND;VALUE=DATE-TIME:20160405T133000Z
DTSTAMP;VALUE=DATE-TIME:20240319T034327Z
UID:indico-contribution-21-0-107@ictp.it
DESCRIPTION:Speakers: PAOLO SCARDI (University of Trento)\n//indico.ictp.i
 t/event/7594/session/21/contribution/107
LOCATION:ICTP LB (Euler Lecture Hall)
URL://indico.ictp.it/event/7594/session/21/contribution/107
END:VEVENT
BEGIN:VEVENT
SUMMARY:Diffraction from nanocrystalline materials
DTSTART;VALUE=DATE-TIME:20160405T140000Z
DTEND;VALUE=DATE-TIME:20160405T150000Z
DTSTAMP;VALUE=DATE-TIME:20240319T034327Z
UID:indico-contribution-21-0-108@ictp.it
DESCRIPTION:Speakers: PAOLO SCARDI (University of Trento)\n//indico.ictp.i
 t/event/7594/session/21/contribution/108
LOCATION:ICTP LB (Euler Lecture Hall)
URL://indico.ictp.it/event/7594/session/21/contribution/108
END:VEVENT
BEGIN:VEVENT
SUMMARY:Protein crystallography with synchrotrons and FELs: from static to
  time-resolved
DTSTART;VALUE=DATE-TIME:20160405T151500Z
DTEND;VALUE=DATE-TIME:20160405T163000Z
DTSTAMP;VALUE=DATE-TIME:20240319T034327Z
UID:indico-contribution-21-0-109@ictp.it
DESCRIPTION:Speakers: JANOS HAJDU (Uppsala University\, Sweden & SLAC\, US
 A)\n//indico.ictp.it/event/7594/session/21/contribution/109
LOCATION:ICTP LB (Euler Lecture Hall)
URL://indico.ictp.it/event/7594/session/21/contribution/109
END:VEVENT
END:VCALENDAR
