BEGIN:VCALENDAR
VERSION:2.0
PRODID:-//CERN//INDICO//EN
BEGIN:VEVENT
SUMMARY:SAXS applications in life science and material science using synch
 rotron
DTSTART;VALUE=DATE-TIME:20160406T120000Z
DTEND;VALUE=DATE-TIME:20160406T133000Z
DTSTAMP;VALUE=DATE-TIME:20240319T045016Z
UID:indico-contribution-112@ictp.it
DESCRIPTION:Speakers: HEINZ AMENITSCH (Graz University of Technology\, Aus
 tria)\n//indico.ictp.it/event/7594/session/22/contribution/112
LOCATION:ICTP Leonardo Building - Euler Lecture Hall
URL://indico.ictp.it/event/7594/session/22/contribution/112
END:VEVENT
END:VCALENDAR
