BEGIN:VCALENDAR
VERSION:2.0
PRODID:-//CERN//INDICO//EN
BEGIN:VEVENT
SUMMARY:X-ray absorption spectroscopy applied to operando and time resolve
 d studies
DTSTART;VALUE=DATE-TIME:20160407T090000Z
DTEND;VALUE=DATE-TIME:20160407T103000Z
DTSTAMP;VALUE=DATE-TIME:20240319T041141Z
UID:indico-contribution-116@ictp.it
DESCRIPTION:Speakers: GIULIANA AQUILANTI (Sincrotrone Trieste)\n//indico.i
 ctp.it/event/7594/session/23/contribution/116
LOCATION:ICTP Leonardo Building - Euler Lecture Hall
URL://indico.ictp.it/event/7594/session/23/contribution/116
END:VEVENT
END:VCALENDAR
