BEGIN:VCALENDAR
VERSION:2.0
PRODID:-//CERN//INDICO//EN
BEGIN:VEVENT
SUMMARY:Resonant Inelastic X-ray Scattering: principles and methodology
DTSTART;VALUE=DATE-TIME:20160408T070000Z
DTEND;VALUE=DATE-TIME:20160408T080000Z
DTSTAMP;VALUE=DATE-TIME:20240319T052331Z
UID:indico-contribution-24-0-120@ictp.it
DESCRIPTION:Speakers: GIACOMO GHIRINGHELLI (Politecnico Milano)\n//indico.
 ictp.it/event/7594/session/24/contribution/120
LOCATION:ICTP Leonardo Building - Euler Lecture Hall
URL://indico.ictp.it/event/7594/session/24/contribution/120
END:VEVENT
BEGIN:VEVENT
SUMMARY:Applications of high resolution RIXS
DTSTART;VALUE=DATE-TIME:20160408T083000Z
DTEND;VALUE=DATE-TIME:20160408T093000Z
DTSTAMP;VALUE=DATE-TIME:20240319T052331Z
UID:indico-contribution-24-0-121@ictp.it
DESCRIPTION:Speakers: GIACOMO GHIRINGHELLI (Politecnico Milano)\n//indico.
 ictp.it/event/7594/session/24/contribution/121
LOCATION:ICTP Leonardo Building - Euler Lecture Hall
URL://indico.ictp.it/event/7594/session/24/contribution/121
END:VEVENT
BEGIN:VEVENT
SUMMARY:UV resonance Raman scattering at Elettra:  principle and applicati
 ons
DTSTART;VALUE=DATE-TIME:20160408T093000Z
DTEND;VALUE=DATE-TIME:20160408T103000Z
DTSTAMP;VALUE=DATE-TIME:20240319T052331Z
UID:indico-contribution-24-0-122@ictp.it
DESCRIPTION:Speakers: BARBARA ROSSI (Sincrotrone Trieste)\n//indico.ictp.i
 t/event/7594/session/24/contribution/122
LOCATION:ICTP Leonardo Building - Euler Lecture Hall
URL://indico.ictp.it/event/7594/session/24/contribution/122
END:VEVENT
BEGIN:VEVENT
SUMMARY:VISIT AT ELETTRA
DTSTART;VALUE=DATE-TIME:20160408T130000Z
DTEND;VALUE=DATE-TIME:20160408T160000Z
DTSTAMP;VALUE=DATE-TIME:20240319T052331Z
UID:indico-contribution-24-0-123@ictp.it
DESCRIPTION:Speakers: \n//indico.ictp.it/event/7594/session/24/contributio
 n/123
LOCATION:ICTP Leonardo Building - Euler Lecture Hall
URL://indico.ictp.it/event/7594/session/24/contribution/123
END:VEVENT
END:VCALENDAR
