BEGIN:VCALENDAR
VERSION:2.0
PRODID:-//CERN//INDICO//EN
BEGIN:VEVENT
SUMMARY:Multicolor experiments with FEL: 4WM
DTSTART;VALUE=DATE-TIME:20160411T120000Z
DTEND;VALUE=DATE-TIME:20160411T133000Z
DTSTAMP;VALUE=DATE-TIME:20240319T043147Z
UID:indico-contribution-126@ictp.it
DESCRIPTION:Speakers: CLAUDIO MASCIOVECCHIO (Sincrotrone Trieste)\n//indic
 o.ictp.it/event/7594/session/25/contribution/126
LOCATION:ICTP Leonardo Building - Euler Lecture Hall
URL://indico.ictp.it/event/7594/session/25/contribution/126
END:VEVENT
END:VCALENDAR
