BEGIN:VCALENDAR
VERSION:2.0
PRODID:-//CERN//INDICO//EN
BEGIN:VEVENT
SUMMARY:Writing Skills for Scientists and Engineers
DTSTART;VALUE=DATE-TIME:20160404T094500Z
DTEND;VALUE=DATE-TIME:20160404T103000Z
DTSTAMP;VALUE=DATE-TIME:20240319T072405Z
UID:indico-contribution-25@ictp.it
DESCRIPTION:Speakers: NIEMELA\, Joseph (ICTP)\n//indico.ictp.it/event/7597
 /session/3/contribution/25
LOCATION:ICTP AGH (Giambiagi Lecture Hall)
URL://indico.ictp.it/event/7597/session/3/contribution/25
END:VEVENT
END:VCALENDAR
