BEGIN:VCALENDAR
VERSION:2.0
PRODID:-//CERN//INDICO//EN
BEGIN:VEVENT
SUMMARY:Start\, stumble and succeed
DTSTART;VALUE=DATE-TIME:20160404T113000Z
DTEND;VALUE=DATE-TIME:20160404T123000Z
DTSTAMP;VALUE=DATE-TIME:20240319T073418Z
UID:indico-contribution-26@ictp.it
DESCRIPTION:Speakers: RAGHU\, Surya (Advanced Fluidics\, USA)\n//indico.ic
 tp.it/event/7597/session/3/contribution/26
LOCATION:ICTP AGH (Giambiagi Lecture Hall)
URL://indico.ictp.it/event/7597/session/3/contribution/26
END:VEVENT
END:VCALENDAR
