BEGIN:VCALENDAR
VERSION:2.0
PRODID:-//CERN//INDICO//EN
BEGIN:VEVENT
SUMMARY:Session 1\, Groups 1\, 2\, 3
DTSTART;VALUE=DATE-TIME:20160405T080000Z
DTEND;VALUE=DATE-TIME:20160405T090000Z
DTSTAMP;VALUE=DATE-TIME:20240319T071807Z
UID:indico-contribution-31@ictp.it
DESCRIPTION:Speakers: \n//indico.ictp.it/event/7597/session/4/contribution
 /31
LOCATION:ICTP AGH (Giambiagi Lecture Hall)
URL://indico.ictp.it/event/7597/session/4/contribution/31
END:VEVENT
END:VCALENDAR
