BEGIN:VCALENDAR
VERSION:2.0
PRODID:-//CERN//INDICO//EN
BEGIN:VEVENT
SUMMARY:Feedback to the participants on their presentations  /  Feedback f
 rom participants to the organizers (written and informal)
DTSTART;VALUE=DATE-TIME:20160405T120000Z
DTEND;VALUE=DATE-TIME:20160405T130000Z
DTSTAMP;VALUE=DATE-TIME:20240319T080001Z
UID:indico-contribution-33@ictp.it
DESCRIPTION:Speakers: ALL PANELISTS AND PARTICIPANTS. MODERATORS: DAVID SE
 CHER AND SURYA RAGHU ()\n//indico.ictp.it/event/7597/session/4/contributio
 n/33
LOCATION:ICTP AGH (Giambiagi Lecture Hall)
URL://indico.ictp.it/event/7597/session/4/contribution/33
END:VEVENT
END:VCALENDAR
