BEGIN:VCALENDAR
VERSION:2.0
PRODID:-//CERN//INDICO//EN
BEGIN:VEVENT
SUMMARY:Upload business-pitch presentations. Determine order of presentati
 ons. Introduction to rules of presentations /Introduction to the panel of 
 judges..
DTSTART;VALUE=DATE-TIME:20160405T070000Z
DTEND;VALUE=DATE-TIME:20160405T080000Z
DTSTAMP;VALUE=DATE-TIME:20240319T084057Z
UID:indico-contribution-4-0-30@ictp.it
DESCRIPTION:Speakers: AMADEI\, Bernard (University of Colorado at Boulder\
 , USA)\, SECHER\, David (University of Cambridge\, UK)\, PANEL ()\n//indic
 o.ictp.it/event/7597/session/4/contribution/30
LOCATION:ICTP AGH (Giambiagi Lecture Hall)
URL://indico.ictp.it/event/7597/session/4/contribution/30
END:VEVENT
BEGIN:VEVENT
SUMMARY:Session 1\, Groups 1\, 2\, 3
DTSTART;VALUE=DATE-TIME:20160405T080000Z
DTEND;VALUE=DATE-TIME:20160405T090000Z
DTSTAMP;VALUE=DATE-TIME:20240319T084057Z
UID:indico-contribution-4-0-31@ictp.it
DESCRIPTION:Speakers: \n//indico.ictp.it/event/7597/session/4/contribution
 /31
LOCATION:ICTP AGH (Giambiagi Lecture Hall)
URL://indico.ictp.it/event/7597/session/4/contribution/31
END:VEVENT
BEGIN:VEVENT
SUMMARY:Session 2\, Groups 4\, 5\, 6
DTSTART;VALUE=DATE-TIME:20160405T091500Z
DTEND;VALUE=DATE-TIME:20160405T101500Z
DTSTAMP;VALUE=DATE-TIME:20240319T084057Z
UID:indico-contribution-4-0-32@ictp.it
DESCRIPTION:Speakers: \n//indico.ictp.it/event/7597/session/4/contribution
 /32
LOCATION:ICTP AGH (Giambiagi Lecture Hall)
URL://indico.ictp.it/event/7597/session/4/contribution/32
END:VEVENT
BEGIN:VEVENT
SUMMARY:Feedback to the participants on their presentations  /  Feedback f
 rom participants to the organizers (written and informal)
DTSTART;VALUE=DATE-TIME:20160405T120000Z
DTEND;VALUE=DATE-TIME:20160405T130000Z
DTSTAMP;VALUE=DATE-TIME:20240319T084057Z
UID:indico-contribution-4-0-33@ictp.it
DESCRIPTION:Speakers: ALL PANELISTS AND PARTICIPANTS. MODERATORS: DAVID SE
 CHER AND SURYA RAGHU ()\n//indico.ictp.it/event/7597/session/4/contributio
 n/33
LOCATION:ICTP AGH (Giambiagi Lecture Hall)
URL://indico.ictp.it/event/7597/session/4/contribution/33
END:VEVENT
BEGIN:VEVENT
SUMMARY:Follow-up Support from IOP
DTSTART;VALUE=DATE-TIME:20160405T130000Z
DTEND;VALUE=DATE-TIME:20160405T133000Z
DTSTAMP;VALUE=DATE-TIME:20240319T084057Z
UID:indico-contribution-4-0-34@ictp.it
DESCRIPTION:Speakers: BHATT-CHAUHAN\, Dipali (IOP\, UK)\n//indico.ictp.it/
 event/7597/session/4/contribution/34
LOCATION:ICTP AGH (Giambiagi Lecture Hall)
URL://indico.ictp.it/event/7597/session/4/contribution/34
END:VEVENT
BEGIN:VEVENT
SUMMARY:Concluding Remarks. Distribution of Certificates after handing out
  the written evaluations.
DTSTART;VALUE=DATE-TIME:20160405T133000Z
DTEND;VALUE=DATE-TIME:20160405T140000Z
DTSTAMP;VALUE=DATE-TIME:20240319T084057Z
UID:indico-contribution-4-0-35@ictp.it
DESCRIPTION:Speakers: BHATT-CHAUHAN\, Dipali (IOP\, UK)\, NIEMELA\, Joseph
  (ICTP)\, RAGHU\, Surya (Advanced Fluidics\, USA)\n//indico.ictp.it/event/
 7597/session/4/contribution/35
LOCATION:ICTP AGH (Giambiagi Lecture Hall)
URL://indico.ictp.it/event/7597/session/4/contribution/35
END:VEVENT
END:VCALENDAR
