BEGIN:VCALENDAR
VERSION:2.0
PRODID:-//CERN//INDICO//EN
BEGIN:VEVENT
SUMMARY:REGISTRATION / PAYMENT
DTSTART;VALUE=DATE-TIME:20160627T060000Z
DTEND;VALUE=DATE-TIME:20160627T080000Z
DTSTAMP;VALUE=DATE-TIME:20240317T205322Z
UID:indico-contribution-2@ictp.it
DESCRIPTION:Speakers: \nRegistration of sponsored participants. Payment of
  conference fees if not done previously. Collection of conference material
  and confirmation of participation to Symposium social events.\n\n//indico
 .ictp.it/event/7599/session/1/contribution/2
LOCATION:ICTP Leonardo Building\, Main Entrance Lobby
URL://indico.ictp.it/event/7599/session/1/contribution/2
END:VEVENT
END:VCALENDAR
