BEGIN:VCALENDAR
VERSION:2.0
PRODID:-//CERN//INDICO//EN
BEGIN:VEVENT
SUMMARY:OPENING SESSION
DTSTART;VALUE=DATE-TIME:20160627T080000Z
DTEND;VALUE=DATE-TIME:20160627T102000Z
DTSTAMP;VALUE=DATE-TIME:20240317T202037Z
UID:indico-contribution-3@ictp.it
DESCRIPTION:Speakers: Prof. QUEVEDO\, Fernando (ICTP Director)\, Prof. RAD
 ICELLA\, Sandro (ICTP)\, Ms. DOHERTY\, Patricia (Boston College)\, Mr. NAV
 A\, Bruno (ICTP)\, Ms. GADIMOVA\, Sharafat (UNOOSA)\, Dr. MILLER\, Kent (A
 FOSR/EOARD)\, Dr. CANNON\, Paul (URSI)\n//indico.ictp.it/event/7599/sessio
 n/1/contribution/3
LOCATION:ICTP LB (Budinich Lecture Hall)
URL://indico.ictp.it/event/7599/session/1/contribution/3
END:VEVENT
END:VCALENDAR
