BEGIN:VCALENDAR
VERSION:2.0
PRODID:-//CERN//INDICO//EN
BEGIN:VEVENT
SUMMARY:POSTER SESSION
DTSTART;VALUE=DATE-TIME:20160628T154000Z
DTEND;VALUE=DATE-TIME:20160628T172000Z
DTSTAMP;VALUE=DATE-TIME:20240317T205739Z
UID:indico-contribution-11@ictp.it
DESCRIPTION:Speakers: \n//indico.ictp.it/event/7599/session/2/contribution
 /11
LOCATION:ICTP LB (Budinich Lecture Hall)
URL://indico.ictp.it/event/7599/session/2/contribution/11
END:VEVENT
END:VCALENDAR
