BEGIN:VCALENDAR
VERSION:2.0
PRODID:-//CERN//INDICO//EN
BEGIN:VEVENT
SUMMARY:SESSION 3B
DTSTART;VALUE=DATE-TIME:20160628T114000Z
DTEND;VALUE=DATE-TIME:20160628T132000Z
DTSTAMP;VALUE=DATE-TIME:20240317T205053Z
UID:indico-contribution-9@ictp.it
DESCRIPTION:Speakers: \nTheory and Modeling of Ionospheric Scintillation a
 nd Irregularities\nChairs: C. Rino\, Y. Beniquel\n\n//indico.ictp.it/event
 /7599/session/2/contribution/9
LOCATION:ICTP Leonardo Building - Euler Lecture Hall
URL://indico.ictp.it/event/7599/session/2/contribution/9
END:VEVENT
END:VCALENDAR
