BEGIN:VCALENDAR
VERSION:2.0
PRODID:-//CERN//INDICO//EN
BEGIN:VEVENT
SUMMARY:SESSION 5B
DTSTART;VALUE=DATE-TIME:20160630T063000Z
DTEND;VALUE=DATE-TIME:20160630T083000Z
DTSTAMP;VALUE=DATE-TIME:20240317T210401Z
UID:indico-contribution-13@ictp.it
DESCRIPTION:Speakers: \nRadio Occultation Techniques and Measurements\nCha
 irs: T. Liu\, E. Yizengaw\n\n//indico.ictp.it/event/7599/session/3/contrib
 ution/13
LOCATION:ICTP Leonardo Building - Euler Lecture Hall
URL://indico.ictp.it/event/7599/session/3/contribution/13
END:VEVENT
END:VCALENDAR
