BEGIN:VCALENDAR
VERSION:2.0
PRODID:-//CERN//INDICO//EN
BEGIN:VEVENT
SUMMARY:SESSION 6
DTSTART;VALUE=DATE-TIME:20160630T120000Z
DTEND;VALUE=DATE-TIME:20160630T134000Z
DTSTAMP;VALUE=DATE-TIME:20240317T204537Z
UID:indico-contribution-16@ictp.it
DESCRIPTION:Speakers: \nIonospheric Effects on Satellite Based Navigation 
 Systems\nChairs: B. Arbesser-Rastburg\, P. Doherty\n\n//indico.ictp.it/eve
 nt/7599/session/3/contribution/16
LOCATION:ICTP LB (Budinich Lecture Hall)
URL://indico.ictp.it/event/7599/session/3/contribution/16
END:VEVENT
END:VCALENDAR
