BEGIN:VCALENDAR
VERSION:2.0
PRODID:-//CERN//INDICO//EN
BEGIN:VEVENT
SUMMARY:TEC Calibration in Radio Occultation Data Inversion
DTSTART;VALUE=DATE-TIME:20160624T070000Z
DTEND;VALUE=DATE-TIME:20160624T080000Z
DTSTAMP;VALUE=DATE-TIME:20240318T030234Z
UID:indico-contribution-4-0-15@ictp.it
DESCRIPTION:Speakers: NAVA\, B. (ICTP)\n//indico.ictp.it/event/7600/sessio
 n/4/contribution/15
LOCATION:ICTP AGH (Giambiagi Lecture Hall)
URL://indico.ictp.it/event/7600/session/4/contribution/15
END:VEVENT
BEGIN:VEVENT
SUMMARY:Wide-area Networks for Ionospheric Research
DTSTART;VALUE=DATE-TIME:20160624T090000Z
DTEND;VALUE=DATE-TIME:20160624T093000Z
DTSTAMP;VALUE=DATE-TIME:20240318T030234Z
UID:indico-contribution-4-0-16@ictp.it
DESCRIPTION:Speakers: PRADIPTA\, R. (BC\, USA)\n//indico.ictp.it/event/760
 0/session/4/contribution/16
LOCATION:ICTP AGH (Giambiagi Lecture Hall)
URL://indico.ictp.it/event/7600/session/4/contribution/16
END:VEVENT
BEGIN:VEVENT
SUMMARY:Where to click for Space Weather Resources
DTSTART;VALUE=DATE-TIME:20160624T093000Z
DTEND;VALUE=DATE-TIME:20160624T100000Z
DTSTAMP;VALUE=DATE-TIME:20240318T030234Z
UID:indico-contribution-4-0-17@ictp.it
DESCRIPTION:Speakers: YIZENGAW\, E. (BC\, USA)\n//indico.ictp.it/event/760
 0/session/4/contribution/17
LOCATION:ICTP AGH (Giambiagi Lecture Hall)
URL://indico.ictp.it/event/7600/session/4/contribution/17
END:VEVENT
BEGIN:VEVENT
SUMMARY:Open discussion
DTSTART;VALUE=DATE-TIME:20160624T100000Z
DTEND;VALUE=DATE-TIME:20160624T110000Z
DTSTAMP;VALUE=DATE-TIME:20240318T030234Z
UID:indico-contribution-4-0-18@ictp.it
DESCRIPTION:Speakers: ALL PARTICIPANTS ()\, NAVA\, B. (ICTP)\, YIZENGAW\, 
 E. (BC\, USA)\n//indico.ictp.it/event/7600/session/4/contribution/18
LOCATION:ICTP AGH (Giambiagi Lecture Hall)
URL://indico.ictp.it/event/7600/session/4/contribution/18
END:VEVENT
BEGIN:VEVENT
SUMMARY:Closing Ceremony and Distribution of Certificates of Completion
DTSTART;VALUE=DATE-TIME:20160624T120000Z
DTEND;VALUE=DATE-TIME:20160624T130000Z
DTSTAMP;VALUE=DATE-TIME:20240318T030234Z
UID:indico-contribution-4-0-19@ictp.it
DESCRIPTION:Speakers: \n//indico.ictp.it/event/7600/session/4/contribution
 /19
LOCATION:ICTP AGH (Giambiagi Lecture Hall)
URL://indico.ictp.it/event/7600/session/4/contribution/19
END:VEVENT
END:VCALENDAR
