BEGIN:VCALENDAR
VERSION:2.0
PRODID:-//CERN//INDICO//EN
BEGIN:VEVENT
SUMMARY:Registration and administrative formalities
DTSTART;VALUE=DATE-TIME:20160307T071500Z
DTEND;VALUE=DATE-TIME:20160307T080000Z
DTSTAMP;VALUE=DATE-TIME:20240319T141103Z
UID:indico-contribution-44@ictp.it
DESCRIPTION:Speakers: \n//indico.ictp.it/event/7601/session/11/contributio
 n/44
LOCATION:ICTP Galileo Guest House - UNESCO Room (entrance level)
URL://indico.ictp.it/event/7601/session/11/contribution/44
END:VEVENT
END:VCALENDAR
