BEGIN:VCALENDAR
VERSION:2.0
PRODID:-//CERN//INDICO//EN
BEGIN:VEVENT
SUMMARY:Introduction to the workshop (material and project)
DTSTART;VALUE=DATE-TIME:20160307T130000Z
DTEND;VALUE=DATE-TIME:20160307T150000Z
DTSTAMP;VALUE=DATE-TIME:20240319T144257Z
UID:indico-contribution-48@ictp.it
DESCRIPTION:Speakers: ANTONIO J. LINAN COLINA & ALVARO J. VIVES MARTINEZ (
 Zolertia\, Spain & NODO6\, Spain)\n//indico.ictp.it/event/7601/session/11/
 contribution/48
LOCATION:ICTP Galileo Guest House - Marconi Lab (floor -1)
URL://indico.ictp.it/event/7601/session/11/contribution/48
END:VEVENT
END:VCALENDAR
