BEGIN:VCALENDAR
VERSION:2.0
PRODID:-//CERN//INDICO//EN
BEGIN:VEVENT
SUMMARY:Intro to 6LoWPAN
DTSTART;VALUE=DATE-TIME:20160308T080000Z
DTEND;VALUE=DATE-TIME:20160308T090000Z
DTSTAMP;VALUE=DATE-TIME:20240319T144729Z
UID:indico-contribution-12-0-50@ictp.it
DESCRIPTION:Speakers: ALVARO J. VIVES MARTINEZ (NODO6\, Spain)\n//indico.i
 ctp.it/event/7601/session/12/contribution/50
LOCATION:ICTP Galileo Guest House - Marconi Lab (floor -1)
URL://indico.ictp.it/event/7601/session/12/contribution/50
END:VEVENT
BEGIN:VEVENT
SUMMARY:IPv6/6LoWPAN with wireshark
DTSTART;VALUE=DATE-TIME:20160308T093000Z
DTEND;VALUE=DATE-TIME:20160308T113000Z
DTSTAMP;VALUE=DATE-TIME:20240319T144729Z
UID:indico-contribution-12-0-51@ictp.it
DESCRIPTION:Speakers: ANTONIO J. LINAN COLINA & ALVARO J. VIVES MARTINEZ (
 Zolertia\, Spain & NODO6\, Spain)\n//indico.ictp.it/event/7601/session/12/
 contribution/51
LOCATION:ICTP Galileo Guest House - Marconi Lab (floor -1)
URL://indico.ictp.it/event/7601/session/12/contribution/51
END:VEVENT
BEGIN:VEVENT
SUMMARY:Intro to Contiki libraries and applications
DTSTART;VALUE=DATE-TIME:20160308T130000Z
DTEND;VALUE=DATE-TIME:20160308T150000Z
DTSTAMP;VALUE=DATE-TIME:20240319T144729Z
UID:indico-contribution-12-0-52@ictp.it
DESCRIPTION:Speakers: ANTONIO J. LINAN COLINA (Zolertia\, Spain)\n//indico
 .ictp.it/event/7601/session/12/contribution/52
LOCATION:ICTP Galileo Guest House - Marconi Lab (floor -1)
URL://indico.ictp.it/event/7601/session/12/contribution/52
END:VEVENT
BEGIN:VEVENT
SUMMARY:Hands on: Contiki and sensors
DTSTART;VALUE=DATE-TIME:20160308T153000Z
DTEND;VALUE=DATE-TIME:20160308T173000Z
DTSTAMP;VALUE=DATE-TIME:20240319T144729Z
UID:indico-contribution-12-0-53@ictp.it
DESCRIPTION:Speakers: ANTONIO J. LINAN COLINA (Zolertia\, Spain)\n//indico
 .ictp.it/event/7601/session/12/contribution/53
LOCATION:ICTP Galileo Guest House - Marconi Lab (floor -1)
URL://indico.ictp.it/event/7601/session/12/contribution/53
END:VEVENT
END:VCALENDAR
