BEGIN:VCALENDAR
VERSION:2.0
PRODID:-//CERN//INDICO//EN
BEGIN:VEVENT
SUMMARY:Introduction to Cooja
DTSTART;VALUE=DATE-TIME:20160310T080000Z
DTEND;VALUE=DATE-TIME:20160310T090000Z
DTSTAMP;VALUE=DATE-TIME:20240319T161112Z
UID:indico-contribution-14-0-58@ictp.it
DESCRIPTION:Speakers: ANTONIO J. LINAN COLINA (Zolertia\, Spain)\n//indico
 .ictp.it/event/7601/session/14/contribution/58
LOCATION:ICTP Galileo Guest House - Marconi Lab (floor -1)
URL://indico.ictp.it/event/7601/session/14/contribution/58
END:VEVENT
BEGIN:VEVENT
SUMMARY:Introduction to MQTT and CoAP in Contiki
DTSTART;VALUE=DATE-TIME:20160310T093000Z
DTEND;VALUE=DATE-TIME:20160310T113000Z
DTSTAMP;VALUE=DATE-TIME:20240319T161112Z
UID:indico-contribution-14-0-59@ictp.it
DESCRIPTION:Speakers: ANTONIO J. LINAN COLINA (Zolertia\, Spain)\n//indico
 .ictp.it/event/7601/session/14/contribution/59
LOCATION:ICTP Galileo Guest House - Marconi Lab (floor -1)
URL://indico.ictp.it/event/7601/session/14/contribution/59
END:VEVENT
BEGIN:VEVENT
SUMMARY:Hands on with MQTT and CoAP in Contiki
DTSTART;VALUE=DATE-TIME:20160310T130000Z
DTEND;VALUE=DATE-TIME:20160310T150000Z
DTSTAMP;VALUE=DATE-TIME:20240319T161112Z
UID:indico-contribution-14-0-60@ictp.it
DESCRIPTION:Speakers: ANTONIO J. LINAN COLINA (Zolertia\, Spain)\n//indico
 .ictp.it/event/7601/session/14/contribution/60
LOCATION:ICTP Galileo Guest House - Marconi Lab (floor -1)
URL://indico.ictp.it/event/7601/session/14/contribution/60
END:VEVENT
BEGIN:VEVENT
SUMMARY:Hands on with MQTT and CoAP in Contiki
DTSTART;VALUE=DATE-TIME:20160310T153000Z
DTEND;VALUE=DATE-TIME:20160310T170000Z
DTSTAMP;VALUE=DATE-TIME:20240319T161112Z
UID:indico-contribution-14-0-61@ictp.it
DESCRIPTION:Speakers: ANTONIO J. LINAN COLINA (Zolertia\, Spain)\n//indico
 .ictp.it/event/7601/session/14/contribution/61
LOCATION:ICTP Galileo Guest House - Marconi Lab (floor -1)
URL://indico.ictp.it/event/7601/session/14/contribution/61
END:VEVENT
END:VCALENDAR
