BEGIN:VCALENDAR
VERSION:2.0
PRODID:-//CERN//INDICO//EN
BEGIN:VEVENT
SUMMARY:Privacy and IoT
DTSTART;VALUE=DATE-TIME:20160314T103000Z
DTEND;VALUE=DATE-TIME:20160314T113000Z
DTSTAMP;VALUE=DATE-TIME:20240319T154622Z
UID:indico-contribution-68@ictp.it
DESCRIPTION:Speakers: STEPHEN HAILES (University College London\, UK)\n//i
 ndico.ictp.it/event/7601/session/16/contribution/68
LOCATION:ICTP Galileo Guest House - Marconi Lab (floor -1)
URL://indico.ictp.it/event/7601/session/16/contribution/68
END:VEVENT
END:VCALENDAR
