BEGIN:VCALENDAR
VERSION:2.0
PRODID:-//CERN//INDICO//EN
BEGIN:VEVENT
SUMMARY:ICN Lab (Blackadder)
DTSTART;VALUE=DATE-TIME:20160314T130000Z
DTEND;VALUE=DATE-TIME:20160314T150000Z
DTSTAMP;VALUE=DATE-TIME:20240319T154341Z
UID:indico-contribution-69@ictp.it
DESCRIPTION:Speakers: ANDRES ARCIA (Cambridge University\, UK)\n//indico.i
 ctp.it/event/7601/session/16/contribution/69
LOCATION:ICTP Galileo Guest House - Marconi Lab (floor -1)
URL://indico.ictp.it/event/7601/session/16/contribution/69
END:VEVENT
END:VCALENDAR
