BEGIN:VCALENDAR
VERSION:2.0
PRODID:-//CERN//INDICO//EN
BEGIN:VEVENT
SUMMARY:Intro to the IoT4D Session
DTSTART;VALUE=DATE-TIME:20160317T080000Z
DTEND;VALUE=DATE-TIME:20160317T081500Z
DTSTAMP;VALUE=DATE-TIME:20240319T150556Z
UID:indico-contribution-19-0-83@ictp.it
DESCRIPTION:Speakers: SANDRO RADICELLA (ICTP\, Italy)\n//indico.ictp.it/ev
 ent/7601/session/19/contribution/83
LOCATION:ICTP Adriatico Guest House - Kastler Lecture Hall
URL://indico.ictp.it/event/7601/session/19/contribution/83
END:VEVENT
BEGIN:VEVENT
SUMMARY:ITU-D Activities in IoT
DTSTART;VALUE=DATE-TIME:20160317T081500Z
DTEND;VALUE=DATE-TIME:20160317T090000Z
DTSTAMP;VALUE=DATE-TIME:20240319T150556Z
UID:indico-contribution-19-0-84@ictp.it
DESCRIPTION:Speakers: HALIMA LETAMO (ITU Development Bureau\, Switzerland)
 \n//indico.ictp.it/event/7601/session/19/contribution/84
LOCATION:ICTP Adriatico Guest House - Kastler Lecture Hall
URL://indico.ictp.it/event/7601/session/19/contribution/84
END:VEVENT
BEGIN:VEVENT
SUMMARY:ITU-R Activities in IoT
DTSTART;VALUE=DATE-TIME:20160317T090000Z
DTEND;VALUE=DATE-TIME:20160317T094500Z
DTSTAMP;VALUE=DATE-TIME:20240319T150556Z
UID:indico-contribution-19-0-85@ictp.it
DESCRIPTION:Speakers: SERGIO BUONOMO (ITU Radiocommunication Sector\, Swit
 zerland)\n//indico.ictp.it/event/7601/session/19/contribution/85
LOCATION:ICTP Adriatico Guest House - Kastler Lecture Hall
URL://indico.ictp.it/event/7601/session/19/contribution/85
END:VEVENT
BEGIN:VEVENT
SUMMARY:ISOC's activities in IoT
DTSTART;VALUE=DATE-TIME:20160317T101500Z
DTEND;VALUE=DATE-TIME:20160317T110000Z
DTSTAMP;VALUE=DATE-TIME:20240319T150556Z
UID:indico-contribution-19-0-86@ictp.it
DESCRIPTION:Speakers: CHRISTINE RUNNEGAR (Internet Society\, Switzerland)\
 n//indico.ictp.it/event/7601/session/19/contribution/86
LOCATION:ICTP Adriatico Guest House - Kastler Lecture Hall
URL://indico.ictp.it/event/7601/session/19/contribution/86
END:VEVENT
BEGIN:VEVENT
SUMMARY:The GAIA initiative
DTSTART;VALUE=DATE-TIME:20160317T110000Z
DTEND;VALUE=DATE-TIME:20160317T120000Z
DTSTAMP;VALUE=DATE-TIME:20240319T150556Z
UID:indico-contribution-19-0-87@ictp.it
DESCRIPTION:Speakers: ARJUNA SATHIASEELAN (Cambridge University\, UK)\n//i
 ndico.ictp.it/event/7601/session/19/contribution/87
LOCATION:ICTP Adriatico Guest House - Kastler Lecture Hall
URL://indico.ictp.it/event/7601/session/19/contribution/87
END:VEVENT
BEGIN:VEVENT
SUMMARY:IoT4D report (via Skype)
DTSTART;VALUE=DATE-TIME:20160317T130000Z
DTEND;VALUE=DATE-TIME:20160317T133000Z
DTSTAMP;VALUE=DATE-TIME:20240319T150556Z
UID:indico-contribution-19-0-88@ictp.it
DESCRIPTION:Speakers: JOHN GARRITY (Cisco\, USA)\n//indico.ictp.it/event/7
 601/session/19/contribution/88
LOCATION:ICTP Adriatico Guest House - Kastler Lecture Hall
URL://indico.ictp.it/event/7601/session/19/contribution/88
END:VEVENT
BEGIN:VEVENT
SUMMARY:IGF Dynamic Coalition on the Internet of Things
DTSTART;VALUE=DATE-TIME:20160317T133000Z
DTEND;VALUE=DATE-TIME:20160317T143000Z
DTSTAMP;VALUE=DATE-TIME:20240319T150556Z
UID:indico-contribution-19-0-89@ictp.it
DESCRIPTION:Speakers: MAARTEN BOTTERMAN (GNKS\, Netherlands)\n//indico.ict
 p.it/event/7601/session/19/contribution/89
LOCATION:ICTP Adriatico Guest House - Kastler Lecture Hall
URL://indico.ictp.it/event/7601/session/19/contribution/89
END:VEVENT
BEGIN:VEVENT
SUMMARY:DTN\, Emergency Networks and IoT
DTSTART;VALUE=DATE-TIME:20160317T150000Z
DTEND;VALUE=DATE-TIME:20160317T160000Z
DTSTAMP;VALUE=DATE-TIME:20240319T150556Z
UID:indico-contribution-19-0-96@ictp.it
DESCRIPTION:Speakers: KANCHANASUT\, Kanchana (Asian Institute of Technolog
 y\, Thailand)\n//indico.ictp.it/event/7601/session/19/contribution/96
LOCATION:ICTP Adriatico Guest House - Kastler Lecture Hall
URL://indico.ictp.it/event/7601/session/19/contribution/96
END:VEVENT
END:VCALENDAR
