BEGIN:VCALENDAR
VERSION:2.0
PRODID:-//CERN//INDICO//EN
BEGIN:VEVENT
SUMMARY:Registration - visitors with financial support have to go to the F
 ermi building - operations office ground floor
DTSTART;VALUE=DATE-TIME:20160523T063000Z
DTEND;VALUE=DATE-TIME:20160523T073000Z
DTSTAMP;VALUE=DATE-TIME:20240318T113651Z
UID:indico-contribution-0-0-0@ictp.it
DESCRIPTION:Speakers: \nto avoid queueing and being late for the opening\,
  it is advisable not to go on the 1st workshop  day to the Fermi building 
 because of parallel big events\n\n//indico.ictp.it/event/7613/session/0/co
 ntribution/0
LOCATION:ICTP AGH (Kastler Lecture Hall)
URL://indico.ictp.it/event/7613/session/0/contribution/0
END:VEVENT
BEGIN:VEVENT
SUMMARY:Regional Modeling
DTSTART;VALUE=DATE-TIME:20160523T073000Z
DTEND;VALUE=DATE-TIME:20160523T080000Z
DTSTAMP;VALUE=DATE-TIME:20240318T113651Z
UID:indico-contribution-0-0-1@ictp.it
DESCRIPTION:Speakers: GIORGI\, Filippo (ICTP)\n//indico.ictp.it/event/7613
 /session/0/contribution/1
LOCATION:ICTP AGH (Kastler Lecture Hall)
URL://indico.ictp.it/event/7613/session/0/contribution/1
END:VEVENT
BEGIN:VEVENT
SUMMARY:CORDEX
DTSTART;VALUE=DATE-TIME:20160523T080000Z
DTEND;VALUE=DATE-TIME:20160523T083000Z
DTSTAMP;VALUE=DATE-TIME:20240318T113651Z
UID:indico-contribution-0-0-2@ictp.it
DESCRIPTION:Speakers: GIORGI\, Filippo (ICTP)\n//indico.ictp.it/event/7613
 /session/0/contribution/2
LOCATION:ICTP AGH (Kastler Lecture Hall)
URL://indico.ictp.it/event/7613/session/0/contribution/2
END:VEVENT
BEGIN:VEVENT
SUMMARY:RegCM4 History/ developments/ future/et...
DTSTART;VALUE=DATE-TIME:20160523T090000Z
DTEND;VALUE=DATE-TIME:20160523T093000Z
DTSTAMP;VALUE=DATE-TIME:20240318T113651Z
UID:indico-contribution-0-0-3@ictp.it
DESCRIPTION:Speakers: GIORGI\, Filippo (ICTP)\n//indico.ictp.it/event/7613
 /session/0/contribution/3
LOCATION:ICTP AGH (Kastler Lecture Hall)
URL://indico.ictp.it/event/7613/session/0/contribution/3
END:VEVENT
BEGIN:VEVENT
SUMMARY:Tests over different domains
DTSTART;VALUE=DATE-TIME:20160523T093000Z
DTEND;VALUE=DATE-TIME:20160523T100000Z
DTSTAMP;VALUE=DATE-TIME:20240318T113651Z
UID:indico-contribution-0-0-4@ictp.it
DESCRIPTION:Speakers: COPPOLA\, Erika (ICTP)\n//indico.ictp.it/event/7613/
 session/0/contribution/4
LOCATION:ICTP AGH (Kastler Lecture Hall)
URL://indico.ictp.it/event/7613/session/0/contribution/4
END:VEVENT
BEGIN:VEVENT
SUMMARY:Cloud microphysics
DTSTART;VALUE=DATE-TIME:20160523T100000Z
DTEND;VALUE=DATE-TIME:20160523T103000Z
DTSTAMP;VALUE=DATE-TIME:20240318T113651Z
UID:indico-contribution-0-0-5@ictp.it
DESCRIPTION:Speakers: NOGHEROTTO\, Rita (ICTP)\n//indico.ictp.it/event/761
 3/session/0/contribution/5
LOCATION:ICTP AGH (Kastler Lecture Hall)
URL://indico.ictp.it/event/7613/session/0/contribution/5
END:VEVENT
BEGIN:VEVENT
SUMMARY:Lab session
DTSTART;VALUE=DATE-TIME:20160523T120000Z
DTEND;VALUE=DATE-TIME:20160523T150000Z
DTSTAMP;VALUE=DATE-TIME:20240318T113651Z
UID:indico-contribution-0-0-6@ictp.it
DESCRIPTION:Speakers: \n//indico.ictp.it/event/7613/session/0/contribution
 /6
LOCATION:ICTP AGH both Informatics Labs
URL://indico.ictp.it/event/7613/session/0/contribution/6
END:VEVENT
END:VCALENDAR
