BEGIN:VCALENDAR
VERSION:2.0
PRODID:-//CERN//INDICO//EN
BEGIN:VEVENT
SUMMARY:Dynamical core
DTSTART;VALUE=DATE-TIME:20160524T070000Z
DTEND;VALUE=DATE-TIME:20160524T073000Z
DTSTAMP;VALUE=DATE-TIME:20240318T100545Z
UID:indico-contribution-1-0-7@ictp.it
DESCRIPTION:Speakers: TUMOLO\, Giovanni (ICTP)\n//indico.ictp.it/event/761
 3/session/1/contribution/7
LOCATION:ICTP AGH (Kastler Lecture Hall)
URL://indico.ictp.it/event/7613/session/1/contribution/7
END:VEVENT
BEGIN:VEVENT
SUMMARY:Added value Alps
DTSTART;VALUE=DATE-TIME:20160524T073000Z
DTEND;VALUE=DATE-TIME:20160524T080000Z
DTSTAMP;VALUE=DATE-TIME:20240318T100545Z
UID:indico-contribution-1-0-8@ictp.it
DESCRIPTION:Speakers: TORMA\, Csaba (ICTP)\n//indico.ictp.it/event/7613/se
 ssion/1/contribution/8
LOCATION:ICTP AGH (Kastler Lecture Hall)
URL://indico.ictp.it/event/7613/session/1/contribution/8
END:VEVENT
BEGIN:VEVENT
SUMMARY:Assessment of multiple daily precipitation statistics in ERA-Inter
 im driven Med-CORDEX and EURO-CORDEX experiments against high resolution o
 bservations
DTSTART;VALUE=DATE-TIME:20160524T080000Z
DTEND;VALUE=DATE-TIME:20160524T083000Z
DTSTAMP;VALUE=DATE-TIME:20240318T100545Z
UID:indico-contribution-1-0-9@ictp.it
DESCRIPTION:Speakers: FANTINI\, Adriano (ICTP)\n//indico.ictp.it/event/761
 3/session/1/contribution/9
LOCATION:ICTP AGH (Kastler Lecture Hall)
URL://indico.ictp.it/event/7613/session/1/contribution/9
END:VEVENT
BEGIN:VEVENT
SUMMARY:Impact of Climate Change on Heating and Cooling Degree Days and Po
 tential Energy Demand in the Household Sector of China
DTSTART;VALUE=DATE-TIME:20160524T083000Z
DTEND;VALUE=DATE-TIME:20160524T090000Z
DTSTAMP;VALUE=DATE-TIME:20240318T100545Z
UID:indico-contribution-1-0-10@ictp.it
DESCRIPTION:Speakers: GAO\, Xuejie (IAP/CAS)\n//indico.ictp.it/event/7613/
 session/1/contribution/10
LOCATION:ICTP AGH (Kastler Lecture Hall)
URL://indico.ictp.it/event/7613/session/1/contribution/10
END:VEVENT
BEGIN:VEVENT
SUMMARY:A study on the impact of irrigation on regional climate using the 
 regional climate model
DTSTART;VALUE=DATE-TIME:20160524T093000Z
DTEND;VALUE=DATE-TIME:20160524T100000Z
DTSTAMP;VALUE=DATE-TIME:20240318T100545Z
UID:indico-contribution-1-0-11@ictp.it
DESCRIPTION:Speakers: IM\, Eun Soon (MIT-SMART)\n//indico.ictp.it/event/76
 13/session/1/contribution/11
LOCATION:ICTP AGH (Kastler Lecture Hall)
URL://indico.ictp.it/event/7613/session/1/contribution/11
END:VEVENT
BEGIN:VEVENT
SUMMARY:Dynamical Vegetation Model
DTSTART;VALUE=DATE-TIME:20160524T100000Z
DTEND;VALUE=DATE-TIME:20160524T103000Z
DTSTAMP;VALUE=DATE-TIME:20240318T100545Z
UID:indico-contribution-1-0-12@ictp.it
DESCRIPTION:Speakers: CAPORASO\, Luca (CMCC Viterbo)\n//indico.ictp.it/eve
 nt/7613/session/1/contribution/12
LOCATION:ICTP AGH (Kastler Lecture Hall)
URL://indico.ictp.it/event/7613/session/1/contribution/12
END:VEVENT
BEGIN:VEVENT
SUMMARY:Lab session
DTSTART;VALUE=DATE-TIME:20160524T120000Z
DTEND;VALUE=DATE-TIME:20160524T150000Z
DTSTAMP;VALUE=DATE-TIME:20240318T100545Z
UID:indico-contribution-1-0-13@ictp.it
DESCRIPTION:Speakers: \n//indico.ictp.it/event/7613/session/1/contribution
 /13
LOCATION:ICTP AGH both Informatics Labs
URL://indico.ictp.it/event/7613/session/1/contribution/13
END:VEVENT
BEGIN:VEVENT
SUMMARY:Poster Session
DTSTART;VALUE=DATE-TIME:20160524T150000Z
DTEND;VALUE=DATE-TIME:20160524T170000Z
DTSTAMP;VALUE=DATE-TIME:20240318T100545Z
UID:indico-contribution-1-0-52@ictp.it
DESCRIPTION:Speakers: \n//indico.ictp.it/event/7613/session/1/contribution
 /52
LOCATION:ICTP AGH lower level
URL://indico.ictp.it/event/7613/session/1/contribution/52
END:VEVENT
END:VCALENDAR
