BEGIN:VCALENDAR
VERSION:2.0
PRODID:-//CERN//INDICO//EN
BEGIN:VEVENT
SUMMARY:Study on air pollution and climate interaction in East Asia using 
 regional model RegCCMS and RegCM-CHEM
DTSTART;VALUE=DATE-TIME:20160525T120000Z
DTEND;VALUE=DATE-TIME:20160525T121500Z
DTSTAMP;VALUE=DATE-TIME:20240318T113004Z
UID:indico-contribution-56@ictp.it
DESCRIPTION:Speakers: WANG\, Tijian (Un. of Nanjing)\n//indico.ictp.it/eve
 nt/7613/session/11/contribution/56
LOCATION:ICTP AGH (Kastler Lecture Hall)
URL://indico.ictp.it/event/7613/session/11/contribution/56
END:VEVENT
END:VCALENDAR
