BEGIN:VCALENDAR
VERSION:2.0
PRODID:-//CERN//INDICO//EN
BEGIN:VEVENT
SUMMARY:Nonhydrostatic vs. hydrostatic dynamics: testing new capabilities 
 in RegCM
DTSTART;VALUE=DATE-TIME:20160526T080000Z
DTEND;VALUE=DATE-TIME:20160526T083000Z
DTSTAMP;VALUE=DATE-TIME:20240318T105311Z
UID:indico-contribution-23@ictp.it
DESCRIPTION:Speakers: GUETTLER\, Ivan (DHMZ Zagreb)\n//indico.ictp.it/even
 t/7613/session/3/contribution/23
LOCATION:ICTP AGH (Kastler Lecture Hall)
URL://indico.ictp.it/event/7613/session/3/contribution/23
END:VEVENT
END:VCALENDAR
