BEGIN:VCALENDAR
VERSION:2.0
PRODID:-//CERN//INDICO//EN
BEGIN:VEVENT
SUMMARY:Overview of a Regional Ocean-Atmosphere Coupled Model FROALS
DTSTART;VALUE=DATE-TIME:20160527T090000Z
DTEND;VALUE=DATE-TIME:20160527T093000Z
DTSTAMP;VALUE=DATE-TIME:20240318T084446Z
UID:indico-contribution-31@ictp.it
DESCRIPTION:Speakers: ZHOU\, Tianjun (IAP/ CAS)\n//indico.ictp.it/event/76
 13/session/4/contribution/31
LOCATION:ICTP AGH (Kastler Lecture Hall)
URL://indico.ictp.it/event/7613/session/4/contribution/31
END:VEVENT
END:VCALENDAR
