BEGIN:VCALENDAR
VERSION:2.0
PRODID:-//CERN//INDICO//EN
BEGIN:VEVENT
SUMMARY:Assessment of the Regional Climate Earth System Model (RegESM) in 
 reproducing observed climatic features of the atmosphere over the CORDEX C
 entral America domain
DTSTART;VALUE=DATE-TIME:20160527T100000Z
DTEND;VALUE=DATE-TIME:20160527T103000Z
DTSTAMP;VALUE=DATE-TIME:20240318T120240Z
UID:indico-contribution-33@ictp.it
DESCRIPTION:Speakers: FUENTES FRANCO\, Ramon (ICTP)\n//indico.ictp.it/even
 t/7613/session/4/contribution/33
LOCATION:ICTP AGH (Kastler Lecture Hall)
URL://indico.ictp.it/event/7613/session/4/contribution/33
END:VEVENT
END:VCALENDAR
