BEGIN:VCALENDAR
VERSION:2.0
PRODID:-//CERN//INDICO//EN
BEGIN:VEVENT
SUMMARY:Atmosphere-ocean interactions
DTSTART;VALUE=DATE-TIME:20160527T070000Z
DTEND;VALUE=DATE-TIME:20160527T073000Z
DTSTAMP;VALUE=DATE-TIME:20240318T110909Z
UID:indico-contribution-4-0-28@ictp.it
DESCRIPTION:Speakers: FARNETI\, Riccardo (ICTP)\n//indico.ictp.it/event/76
 13/session/4/contribution/28
LOCATION:ICTP AGH (Kastler Lecture Hall)
URL://indico.ictp.it/event/7613/session/4/contribution/28
END:VEVENT
BEGIN:VEVENT
SUMMARY:Recent developments in RegESM modeling system and plans to support
  higher resolution and multi-component applications
DTSTART;VALUE=DATE-TIME:20160527T073000Z
DTEND;VALUE=DATE-TIME:20160527T080000Z
DTSTAMP;VALUE=DATE-TIME:20240318T110909Z
UID:indico-contribution-4-0-29@ictp.it
DESCRIPTION:Speakers: TURUNCOGLU\, Ufuk (ITU\, Turkey)\n//indico.ictp.it/e
 vent/7613/session/4/contribution/29
LOCATION:ICTP AGH (Kastler Lecture Hall)
URL://indico.ictp.it/event/7613/session/4/contribution/29
END:VEVENT
BEGIN:VEVENT
SUMMARY:Coupling - India
DTSTART;VALUE=DATE-TIME:20160527T080000Z
DTEND;VALUE=DATE-TIME:20160527T083000Z
DTSTAMP;VALUE=DATE-TIME:20240318T110909Z
UID:indico-contribution-4-0-30@ictp.it
DESCRIPTION:Speakers: DI SANTE\, Fabio (ICTP)\n//indico.ictp.it/event/7613
 /session/4/contribution/30
LOCATION:ICTP AGH (Kastler Lecture Hall)
URL://indico.ictp.it/event/7613/session/4/contribution/30
END:VEVENT
BEGIN:VEVENT
SUMMARY:Overview of a Regional Ocean-Atmosphere Coupled Model FROALS
DTSTART;VALUE=DATE-TIME:20160527T090000Z
DTEND;VALUE=DATE-TIME:20160527T093000Z
DTSTAMP;VALUE=DATE-TIME:20240318T110909Z
UID:indico-contribution-4-0-31@ictp.it
DESCRIPTION:Speakers: ZHOU\, Tianjun (IAP/ CAS)\n//indico.ictp.it/event/76
 13/session/4/contribution/31
LOCATION:ICTP AGH (Kastler Lecture Hall)
URL://indico.ictp.it/event/7613/session/4/contribution/31
END:VEVENT
BEGIN:VEVENT
SUMMARY:Coupling - South Atlantic
DTSTART;VALUE=DATE-TIME:20160527T093000Z
DTEND;VALUE=DATE-TIME:20160527T100000Z
DTSTAMP;VALUE=DATE-TIME:20240318T110909Z
UID:indico-contribution-4-0-32@ictp.it
DESCRIPTION:Speakers: SITZ\, Lina (ICTP)\n//indico.ictp.it/event/7613/sess
 ion/4/contribution/32
LOCATION:ICTP AGH (Kastler Lecture Hall)
URL://indico.ictp.it/event/7613/session/4/contribution/32
END:VEVENT
BEGIN:VEVENT
SUMMARY:Assessment of the Regional Climate Earth System Model (RegESM) in 
 reproducing observed climatic features of the atmosphere over the CORDEX C
 entral America domain
DTSTART;VALUE=DATE-TIME:20160527T100000Z
DTEND;VALUE=DATE-TIME:20160527T103000Z
DTSTAMP;VALUE=DATE-TIME:20240318T110909Z
UID:indico-contribution-4-0-33@ictp.it
DESCRIPTION:Speakers: FUENTES FRANCO\, Ramon (ICTP)\n//indico.ictp.it/even
 t/7613/session/4/contribution/33
LOCATION:ICTP AGH (Kastler Lecture Hall)
URL://indico.ictp.it/event/7613/session/4/contribution/33
END:VEVENT
BEGIN:VEVENT
SUMMARY:Lab session
DTSTART;VALUE=DATE-TIME:20160527T120000Z
DTEND;VALUE=DATE-TIME:20160527T150000Z
DTSTAMP;VALUE=DATE-TIME:20240318T110909Z
UID:indico-contribution-4-0-34@ictp.it
DESCRIPTION:Speakers: \n//indico.ictp.it/event/7613/session/4/contribution
 /34
LOCATION:ICTP AGH both Informatics Labs
URL://indico.ictp.it/event/7613/session/4/contribution/34
END:VEVENT
END:VCALENDAR
