BEGIN:VCALENDAR
VERSION:2.0
PRODID:-//CERN//INDICO//EN
BEGIN:VEVENT
SUMMARY:Lab session
DTSTART;VALUE=DATE-TIME:20160530T083000Z
DTEND;VALUE=DATE-TIME:20160530T103000Z
DTSTAMP;VALUE=DATE-TIME:20240318T094718Z
UID:indico-contribution-36@ictp.it
DESCRIPTION:Speakers: \n//indico.ictp.it/event/7613/session/5/contribution
 /36
LOCATION:ICTP AGH both Informatics Labs
URL://indico.ictp.it/event/7613/session/5/contribution/36
END:VEVENT
END:VCALENDAR
