BEGIN:VCALENDAR
VERSION:2.0
PRODID:-//CERN//INDICO//EN
BEGIN:VEVENT
SUMMARY:Climate Extreme Index Analysis Based on High Resolution Regional S
 imulation
DTSTART;VALUE=DATE-TIME:20160530T072000Z
DTEND;VALUE=DATE-TIME:20160530T074000Z
DTSTAMP;VALUE=DATE-TIME:20240318T091246Z
UID:indico-contribution-64@ictp.it
DESCRIPTION:Speakers: BATIBENIZ\, Fulden (Istanbul Tech. University)\n//in
 dico.ictp.it/event/7613/session/5/contribution/64
LOCATION:ICTP AGH (Kastler Lecture Hall)
URL://indico.ictp.it/event/7613/session/5/contribution/64
END:VEVENT
END:VCALENDAR
