BEGIN:VCALENDAR
VERSION:2.0
PRODID:-//CERN//INDICO//EN
BEGIN:VEVENT
SUMMARY:Representing the present-day regional climate over Southern Africa
  in adouble nested system
DTSTART;VALUE=DATE-TIME:20160531T070000Z
DTEND;VALUE=DATE-TIME:20160531T072000Z
DTSTAMP;VALUE=DATE-TIME:20240318T122241Z
UID:indico-contribution-6-0-38@ictp.it
DESCRIPTION:Speakers: BROWNE KLUTSE\, Nana Ama (Ghana Space Science and Te
 ch. Institute)\n//indico.ictp.it/event/7613/session/6/contribution/38
LOCATION:ICTP AGH (Kastler Lecture Hall)
URL://indico.ictp.it/event/7613/session/6/contribution/38
END:VEVENT
BEGIN:VEVENT
SUMMARY:How can regional climate models reproduce the annual cycle of prec
 ipitation in Europe?
DTSTART;VALUE=DATE-TIME:20160531T072000Z
DTEND;VALUE=DATE-TIME:20160531T074000Z
DTSTAMP;VALUE=DATE-TIME:20240318T122241Z
UID:indico-contribution-6-0-66@ictp.it
DESCRIPTION:Speakers: HALENKA\, Tomas (Charles University\, Czech Republic
 )\n//indico.ictp.it/event/7613/session/6/contribution/66
LOCATION:ICTP AGH (Kastler Lecture Hall)
URL://indico.ictp.it/event/7613/session/6/contribution/66
END:VEVENT
BEGIN:VEVENT
SUMMARY:Studies with RegCM4: Cyclones over South Atlantic and diurnal cycl
 e of precipitation\, new microphysics scheme and seasonal forecast over So
 uth America
DTSTART;VALUE=DATE-TIME:20160531T074000Z
DTEND;VALUE=DATE-TIME:20160531T080000Z
DTSTAMP;VALUE=DATE-TIME:20240318T122241Z
UID:indico-contribution-6-0-67@ictp.it
DESCRIPTION:Speakers: REBOITA\, Michelle (Federal University of Itajuba\, 
 Brazil)\n//indico.ictp.it/event/7613/session/6/contribution/67
LOCATION:ICTP AGH (Kastler Lecture Hall)
URL://indico.ictp.it/event/7613/session/6/contribution/67
END:VEVENT
BEGIN:VEVENT
SUMMARY:Study of climate variability and future climate projections over t
 he Southern Central Andes region through CMIP5 GCMs
DTSTART;VALUE=DATE-TIME:20160531T080000Z
DTEND;VALUE=DATE-TIME:20160531T082000Z
DTSTAMP;VALUE=DATE-TIME:20240318T122241Z
UID:indico-contribution-6-0-68@ictp.it
DESCRIPTION:Speakers: ZAZULIE\, Natalia (Un. de Buenos Aires\, Argentina)\
 n//indico.ictp.it/event/7613/session/6/contribution/68
LOCATION:ICTP AGH (Kastler Lecture Hall)
URL://indico.ictp.it/event/7613/session/6/contribution/68
END:VEVENT
BEGIN:VEVENT
SUMMARY:Lab session
DTSTART;VALUE=DATE-TIME:20160531T085000Z
DTEND;VALUE=DATE-TIME:20160531T103000Z
DTSTAMP;VALUE=DATE-TIME:20240318T122241Z
UID:indico-contribution-6-0-39@ictp.it
DESCRIPTION:Speakers: \n//indico.ictp.it/event/7613/session/6/contribution
 /39
LOCATION:ICTP AGH both Informatics Labs
URL://indico.ictp.it/event/7613/session/6/contribution/39
END:VEVENT
BEGIN:VEVENT
SUMMARY:Lab session
DTSTART;VALUE=DATE-TIME:20160531T120000Z
DTEND;VALUE=DATE-TIME:20160531T150000Z
DTSTAMP;VALUE=DATE-TIME:20240318T122241Z
UID:indico-contribution-6-0-40@ictp.it
DESCRIPTION:Speakers: \n//indico.ictp.it/event/7613/session/6/contribution
 /40
LOCATION:ICTP AGH both Informatics Labs
URL://indico.ictp.it/event/7613/session/6/contribution/40
END:VEVENT
END:VCALENDAR
