BEGIN:VCALENDAR
VERSION:2.0
PRODID:-//CERN//INDICO//EN
BEGIN:VEVENT
SUMMARY:Lab session
DTSTART;VALUE=DATE-TIME:20160601T085000Z
DTEND;VALUE=DATE-TIME:20160601T103000Z
DTSTAMP;VALUE=DATE-TIME:20240318T114620Z
UID:indico-contribution-42@ictp.it
DESCRIPTION:Speakers: \n//indico.ictp.it/event/7613/session/7/contribution
 /42
LOCATION:ICTP AGH both Informatics Labs
URL://indico.ictp.it/event/7613/session/7/contribution/42
END:VEVENT
END:VCALENDAR
