BEGIN:VCALENDAR
VERSION:2.0
PRODID:-//CERN//INDICO//EN
BEGIN:VEVENT
SUMMARY:Modeling of cloud microphysics: from simple concepts to sophistica
 ted parameterizations. Part I: warm-rain microphysics
DTSTART;VALUE=DATE-TIME:20160627T134500Z
DTEND;VALUE=DATE-TIME:20160627T153000Z
DTSTAMP;VALUE=DATE-TIME:20240317T181730Z
UID:indico-contribution-4@ictp.it
DESCRIPTION:Speakers: GRABOWSKI\, W. (NCAR\, Boulder\, USA)\n//indico.ictp
 .it/event/7614/session/0/contribution/4
LOCATION:ICTP First week: AGH (Kastler Lecture Hall) - Second week: former
  SISSA building\, Main Lecture Hall
URL://indico.ictp.it/event/7614/session/0/contribution/4
END:VEVENT
END:VCALENDAR
